BEGIN:VCALENDAR
VERSION:2.0
PRODID:-//Usetix//Events//EN
CALSCALE:GREGORIAN
METHOD:PUBLISH
BEGIN:VTIMEZONE
TZID:Europe/Berlin
BEGIN:DAYLIGHT
DTSTART:20260329T030000
TZOFFSETFROM:+0100
TZOFFSETTO:+0200
RRULE:FREQ=YEARLY;BYDAY=-1SU;BYMONTH=3
TZNAME:CEST
END:DAYLIGHT
BEGIN:STANDARD
DTSTART:20261025T020000
TZOFFSETFROM:+0200
TZOFFSETTO:+0100
RRULE:FREQ=YEARLY;BYDAY=-1SU;BYMONTH=10
TZNAME:CET
END:STANDARD
END:VTIMEZONE
BEGIN:VEVENT
DTSTAMP:20260421T105412Z
UID:six-seven-praesentiert-von-shake-it-to-the-maxx@tickets.trinityclub.de
DTSTART;TZID=Europe/Berlin:20260424T220000
DTEND;TZID=Europe/Berlin:20260425T040000
DESCRIPTION:🔥 AMERICAN HIGHSCHOOL PARTY – 16+ im TRINITY CLUB 🔥\n\n
 Am 24. April wird der  TRINITY CLUB komplett eskaliert – wir holen eu
 ch den ultimativen American Highschool Vibe direkt auf den Dancefloor! 
 🇺🇸📚\n\nMit fetten Beats von DJ SIXONE geht’s richtig nach vorne
 : von Charts über Hip-Hop bis zu den wildesten Party Hits – hier bleibt
  niemand still stehen. 🕺💃\n\nEgal ob du mit deiner Crew am Start bis
 t oder neue Leute kennenlernen willst – das wird die Nacht\, über die a
 lle reden werden. Red Cups\, Cheerleader-Vibes und absolute Eskalation gar
 antiert. 🔥\n\n👉 Einlass ab 16 Jahren (Ausweispflicht!)\n📍 TRINITY
  CLUB\n📅 24. April\n\nAlso schnapp dir deine Leute\, zieh dein bestes H
 ighschool-Outfit an und sei ready für eine Nacht\, die komplett ausrastet
 ! 🚀\n\n\n\n📍 Trinity Club Giessen\n📅 Freitag\, 24.04.2026\n\nhttp
 s://app.usetix.io/events/six-seven-praesentiert-von-shake-it-to-the-maxx
LOCATION:Schiffenberger Weg 115\, 35394\, Gießen\, DE
SUMMARY:AMERICAN HIGHSCHOOL PARTY by SHAKE IT TO THE MAXX I 16+ Event
URL;VALUE=URI:https://app.usetix.io/events/six-seven-praesentiert-von-shake
 -it-to-the-maxx
END:VEVENT
END:VCALENDAR
