BEGIN:VCALENDAR
VERSION:2.0
PRODID:-//Usetix//Events//EN
CALSCALE:GREGORIAN
METHOD:PUBLISH
BEGIN:VTIMEZONE
TZID:Europe/Berlin
BEGIN:DAYLIGHT
DTSTART:20260329T030000
TZOFFSETFROM:+0100
TZOFFSETTO:+0200
RRULE:FREQ=YEARLY;BYDAY=-1SU;BYMONTH=3
TZNAME:CEST
END:DAYLIGHT
BEGIN:STANDARD
DTSTART:20261025T020000
TZOFFSETFROM:+0200
TZOFFSETTO:+0100
RRULE:FREQ=YEARLY;BYDAY=-1SU;BYMONTH=10
TZNAME:CET
END:STANDARD
END:VTIMEZONE
BEGIN:VEVENT
DTSTAMP:20260421T103555Z
UID:legends-30-oldschool-hip-hop-party-1@tickets.trinityclub.de
DTSTART;TZID=Europe/Berlin:20260425T230000
DTEND;TZID=Europe/Berlin:20260426T050000
DESCRIPTION:🔥🎤 LEGENDS – Ü30 OLD SCHOOL HIP HOP PARTY 🎤🔥\nDi
 ese Nacht ist für alle\, die Hip Hop nicht nur gehört\, sondern gelebt h
 aben.\nLEGENDS bringt euch die größten Old School Hip Hop Classics zurü
 ck auf die Tanzfläche – Beats\, die Geschichte geschrieben haben\, und 
 Vibes\, die man nicht vergisst.\nAn den Turntables: DJ Ray D – mit dem p
 erfekten Mix aus 90s & 2000s Hip Hop\, R’n’B und echten Party-Anthems.
  Von Westcoast bis Eastcoast\, von Club-Bangern bis zu legendären Tracks:
  Hier sitzt jeder Beat.\n✨ Was euch erwartet:\n• Old School Hip Hop vo
 m Feinsten\n• Pure Nostalgie & echte Party-Energie\n• Ein erwachsenes 
 Publikum mit Stil & Groove\n• Tanzen\, Feiern\, Mitsingen – bis spät 
 in die Nacht\n• \n\n📀 LEGENDS ist mehr als eine Party – es ist ein 
 Lebensgefühl.\nAlso Freunde zusammentrommeln\, Sneaker schnüren und bere
 it machen für eine Nacht voller Erinnerungen und neuer Highlights.\n📍 
 Ort: Trinity Club Gießen\n🕗 Zeit: 23.00 Uhr\n🔞 Einlass: Ü30\nLEGEN
 DS – because real hip hop never dies. 🔥🎶\n\nhttps://app.usetix.io/
 events/legends-30-oldschool-hip-hop-party-1
LOCATION:Schiffenberger Weg 115\, 35394\, Gießen\, DE
SUMMARY:LEGENDS / 30+ Oldschool & Hip Hop Party
URL;VALUE=URI:https://app.usetix.io/events/legends-30-oldschool-hip-hop-par
 ty-1
END:VEVENT
END:VCALENDAR
